BEGIN:VCALENDAR
VERSION:2.0
PRODID:-//NextSafetyGroup - ECPv6.15.17//NONSGML v1.0//EN
CALSCALE:GREGORIAN
METHOD:PUBLISH
X-ORIGINAL-URL:https://nextsafetygroup.com
X-WR-CALDESC:Händelser för NextSafetyGroup
REFRESH-INTERVAL;VALUE=DURATION:PT1H
X-Robots-Tag:noindex
X-PUBLISHED-TTL:PT1H
BEGIN:VTIMEZONE
TZID:Europe/Stockholm
BEGIN:DAYLIGHT
TZOFFSETFROM:+0100
TZOFFSETTO:+0200
TZNAME:CEST
DTSTART:20240331T010000
END:DAYLIGHT
BEGIN:STANDARD
TZOFFSETFROM:+0200
TZOFFSETTO:+0100
TZNAME:CET
DTSTART:20241027T010000
END:STANDARD
BEGIN:DAYLIGHT
TZOFFSETFROM:+0100
TZOFFSETTO:+0200
TZNAME:CEST
DTSTART:20250330T010000
END:DAYLIGHT
BEGIN:STANDARD
TZOFFSETFROM:+0200
TZOFFSETTO:+0100
TZNAME:CET
DTSTART:20251026T010000
END:STANDARD
BEGIN:DAYLIGHT
TZOFFSETFROM:+0100
TZOFFSETTO:+0200
TZNAME:CEST
DTSTART:20260329T010000
END:DAYLIGHT
BEGIN:STANDARD
TZOFFSETFROM:+0200
TZOFFSETTO:+0100
TZNAME:CET
DTSTART:20261025T010000
END:STANDARD
END:VTIMEZONE
BEGIN:VEVENT
DTSTART;TZID=Europe/Stockholm:20251007T090000
DTEND;TZID=Europe/Stockholm:20251007T160000
DTSTAMP:20260424T004149
CREATED:20250612T122359Z
LAST-MODIFIED:20250926T083849Z
UID:3882-1759827600-1759852800@nextsafetygroup.com
SUMMARY:Brandfarliga arbeten "Heta arbeten"
DESCRIPTION:Brandfarliga Arbeten är en ny och modern utbildning för alla som arbetar med moment där det finns risk för att en brand kan uppstå. Utbildningen uppfyller försäkringsbolagens krav och motsvarar Brandskyddsföreningens kurs “Heta arbeten”. \nEfter utbildningen Brandfarliga Arbeten får du ett giltigt certifikat enligt försäkringsbolagens villkor. Utbildningen är också anpassad till förhållanden i olika branscher exempelvis bygg\, tak eller industrin. Deltagaren får förståelse för risksituationer på just sin arbetsplats och kan direkt tillämpa kunskaperna i sitt arbete. \nKursens innehåll \n\nAnsvar\, lagar och regler\nOrganisation\nSäkerhetsregler & försäkringsvillkor\nRiskhantering & konsekvenser\nGrundläggande brandskydd\nBrandfarlig vara\nGrupparbeten\nPraktisk släckövning\nCertifiering\n\nNext Safety Group erbjuder utbildningen ”brandfarliga heta arbeten” på flertalet orter i Sverige\, se listan nedan. \n\nPris: 2390 kr ex. moms (inklusive certifikat och kurslitteratur). Vi erbjuder även mängdrabatt vid större gruppbokningar! \nTid: Kursen pågår mellan kl 09:00 – ca 16:00\nLunch och fika ingår\, meddela om eventuella matallergier. \nID06: Registrering i ID06 kompetensdatabas ingår om du vill ha det! (värde 200 kr) \nCertifiering: Görs digitalt så ta med smartphone eller surfplatta om du har. \nBokningsregler\nKursavgiften betalas med företagsfaktura.\nAnmälan är bindande. Vid avbokning 1-5 dagar innan kursstart debiterar vi 50% av kursavgiften om inte ombokning till annan kurs kan ske. Vid uteblivet deltagande vi 100% av kursavgiften.
URL:https://nextsafetygroup.com/schemalagda-kurser/brandfarliga-arbeten-heta-arbeten/
LOCATION:Värnamo\, Sweden
CATEGORIES:Brandskydd,Heta arbeten
ATTACH;FMTTYPE=image/jpeg:https://nextsafetygroup.com/wp-content/uploads/2025/06/heta-arbeten.jpg
END:VEVENT
BEGIN:VEVENT
DTSTART;TZID=Europe/Stockholm:20251013T090000
DTEND;TZID=Europe/Stockholm:20251013T160000
DTSTAMP:20260424T004149
CREATED:20250613T052055Z
LAST-MODIFIED:20250926T082417Z
UID:3961-1760346000-1760371200@nextsafetygroup.com
SUMMARY:Brandfarliga arbeten "Heta arbeten"
DESCRIPTION:Brandfarliga Arbeten är en ny och modern utbildning för alla som arbetar med moment där det finns risk för att en brand kan uppstå. Utbildningen uppfyller försäkringsbolagens krav och motsvarar Brandskyddsföreningens kurs “Heta arbeten”. \nEfter utbildningen Brandfarliga Arbeten får du ett giltigt certifikat enligt försäkringsbolagens villkor. Utbildningen är också anpassad till förhållanden i olika branscher exempelvis bygg\, tak eller industrin. Deltagaren får förståelse för risksituationer på just sin arbetsplats och kan direkt tillämpa kunskaperna i sitt arbete. \nKursens innehåll \n\nAnsvar\, lagar och regler\nOrganisation\nSäkerhetsregler & försäkringsvillkor\nRiskhantering & konsekvenser\nGrundläggande brandskydd\nBrandfarlig vara\nGrupparbeten\nPraktisk släckövning\nCertifiering\n\nNext Safety Group erbjuder utbildningen ”brandfarliga heta arbeten” på flertalet orter i Sverige\, se listan nedan. \n\nPris: 2390 kr ex. moms (inklusive certifikat och kurslitteratur). Vi erbjuder även mängdrabatt vid större gruppbokningar! \nTid: Kursen pågår mellan kl 09:00 – ca 16:00\nLunch och fika ingår\, meddela om eventuella matallergier. \nID06: Registrering i ID06 kompetensdatabas ingår om du vill ha det! (värde 200 kr) \nCertifiering: Görs digitalt så ta med smartphone eller surfplatta om du har. \nBokningsregler\nKursavgiften betalas med företagsfaktura.\nAnmälan är bindande. Vid avbokning 1-5 dagar innan kursstart debiterar vi 50% av kursavgiften om inte ombokning till annan kurs kan ske. Vid uteblivet deltagande vi 100% av kursavgiften.
URL:https://nextsafetygroup.com/schemalagda-kurser/brandfarliga-arbeten-heta-arbeten-6/
LOCATION:Nässjö\, Sweden
CATEGORIES:Brandskydd,Heta arbeten
ATTACH;FMTTYPE=image/jpeg:https://nextsafetygroup.com/wp-content/uploads/2025/06/heta-arbeten.jpg
END:VEVENT
BEGIN:VEVENT
DTSTART;TZID=Europe/Stockholm:20251014T090000
DTEND;TZID=Europe/Stockholm:20251014T160000
DTSTAMP:20260424T004149
CREATED:20250612T122438Z
LAST-MODIFIED:20250926T083729Z
UID:3884-1760432400-1760457600@nextsafetygroup.com
SUMMARY:Brandfarliga arbeten "Heta arbeten"
DESCRIPTION:Brandfarliga Arbeten är en ny och modern utbildning för alla som arbetar med moment där det finns risk för att en brand kan uppstå. Utbildningen uppfyller försäkringsbolagens krav och motsvarar Brandskyddsföreningens kurs “Heta arbeten”. \nEfter utbildningen Brandfarliga Arbeten får du ett giltigt certifikat enligt försäkringsbolagens villkor. Utbildningen är också anpassad till förhållanden i olika branscher exempelvis bygg\, tak eller industrin. Deltagaren får förståelse för risksituationer på just sin arbetsplats och kan direkt tillämpa kunskaperna i sitt arbete. \nKursens innehåll \n\nAnsvar\, lagar och regler\nOrganisation\nSäkerhetsregler & försäkringsvillkor\nRiskhantering & konsekvenser\nGrundläggande brandskydd\nBrandfarlig vara\nGrupparbeten\nPraktisk släckövning\nCertifiering\n\nNext Safety Group erbjuder utbildningen ”brandfarliga heta arbeten” på flertalet orter i Sverige\, se listan nedan. \n\nPris: 2390 kr ex. moms (inklusive certifikat och kurslitteratur). Vi erbjuder även mängdrabatt vid större gruppbokningar! \nTid: Kursen pågår mellan kl 09:00 – ca 16:00\nLunch och fika ingår\, meddela om eventuella matallergier. \nID06: Registrering i ID06 kompetensdatabas ingår om du vill ha det! (värde 200 kr) \nCertifiering: Görs digitalt så ta med smartphone eller surfplatta om du har. \nBokningsregler\nKursavgiften betalas med företagsfaktura.\nAnmälan är bindande. Vid avbokning 1-5 dagar innan kursstart debiterar vi 50% av kursavgiften om inte ombokning till annan kurs kan ske. Vid uteblivet deltagande vi 100% av kursavgiften.
URL:https://nextsafetygroup.com/schemalagda-kurser/brandfarliga-arbeten-heta-arbeten-2/
LOCATION:Stockholm\, Sjöängsvägen 15\, Sollentuna\, 192 72\, Sweden
CATEGORIES:Brandskydd,Heta arbeten
ATTACH;FMTTYPE=image/jpeg:https://nextsafetygroup.com/wp-content/uploads/2025/06/heta-arbeten.jpg
END:VEVENT
BEGIN:VEVENT
DTSTART;TZID=Europe/Stockholm:20251020T090000
DTEND;TZID=Europe/Stockholm:20251020T160000
DTSTAMP:20260424T004149
CREATED:20250613T052207Z
LAST-MODIFIED:20250926T081139Z
UID:3963-1760950800-1760976000@nextsafetygroup.com
SUMMARY:Brandfarliga arbeten "Heta arbeten"
DESCRIPTION:Brandfarliga Arbeten är en ny och modern utbildning för alla som arbetar med moment där det finns risk för att en brand kan uppstå. Utbildningen uppfyller försäkringsbolagens krav och motsvarar Brandskyddsföreningens kurs “Heta arbeten”. \nEfter utbildningen Brandfarliga Arbeten får du ett giltigt certifikat enligt försäkringsbolagens villkor. Utbildningen är också anpassad till förhållanden i olika branscher exempelvis bygg\, tak eller industrin. Deltagaren får förståelse för risksituationer på just sin arbetsplats och kan direkt tillämpa kunskaperna i sitt arbete. \nKursens innehåll \n\nAnsvar\, lagar och regler\nOrganisation\nSäkerhetsregler & försäkringsvillkor\nRiskhantering & konsekvenser\nGrundläggande brandskydd\nBrandfarlig vara\nGrupparbeten\nPraktisk släckövning\nCertifiering\n\nNext Safety Group erbjuder utbildningen ”brandfarliga heta arbeten” på flertalet orter i Sverige\, se listan nedan. \n\nPris: 2390 kr ex. moms (inklusive certifikat och kurslitteratur). Mängdrabatt vid större gruppbokningar! \nTid: Kursen pågår mellan kl 09:00 – ca 16:00\nLunch och fika ingår\, meddela om eventuella matallergier. \nID06: Registrering i ID06 kompetensdatabas ingår om du vill ha det! (värde 200 kr) \nCertifiering: Görs digitalt så ta med smartphone eller surfplatta om du har. \nBokningsregler\nKursavgiften betalas med företagsfaktura.\nAnmälan är bindande. Vid avbokning 1-5 dagar innan kursstart debiterar vi 50% av kursavgiften om inte ombokning till annan kurs kan ske. Vid uteblivet deltagande vi 100% av kursavgiften.
URL:https://nextsafetygroup.com/schemalagda-kurser/brandfarliga-arbeten-heta-arbeten-7/
LOCATION:Linköping\, Sweden
CATEGORIES:Brandskydd,Heta arbeten
ATTACH;FMTTYPE=image/jpeg:https://nextsafetygroup.com/wp-content/uploads/2025/06/heta-arbeten.jpg
END:VEVENT
BEGIN:VEVENT
DTSTART;TZID=Europe/Stockholm:20251021T090000
DTEND;TZID=Europe/Stockholm:20251021T160000
DTSTAMP:20260424T004149
CREATED:20250612T122514Z
LAST-MODIFIED:20250926T083527Z
UID:3886-1761037200-1761062400@nextsafetygroup.com
SUMMARY:Brandfarliga arbeten "Heta arbeten"
DESCRIPTION:Brandfarliga Arbeten är en ny och modern utbildning för alla som arbetar med moment där det finns risk för att en brand kan uppstå. Utbildningen uppfyller försäkringsbolagens krav och motsvarar Brandskyddsföreningens kurs “Heta arbeten”. \nEfter utbildningen Brandfarliga Arbeten får du ett giltigt certifikat enligt försäkringsbolagens villkor. Utbildningen är också anpassad till förhållanden i olika branscher exempelvis bygg\, tak eller industrin. Deltagaren får förståelse för risksituationer på just sin arbetsplats och kan direkt tillämpa kunskaperna i sitt arbete. \nKursens innehåll \n\nAnsvar\, lagar och regler\nOrganisation\nSäkerhetsregler & försäkringsvillkor\nRiskhantering & konsekvenser\nGrundläggande brandskydd\nBrandfarlig vara\nGrupparbeten\nPraktisk släckövning\nCertifiering\n\nNext Safety Group erbjuder utbildningen ”brandfarliga heta arbeten” på flertalet orter i Sverige\, se listan nedan. \n\nPris: 2390 kr ex. moms (inklusive certifikat och kurslitteratur). Vi erbjuder även mängdrabatt vid större gruppbokningar! \nTid: Kursen pågår mellan kl 09:00 – ca 16:00\nLunch och fika ingår\, meddela om eventuella matallergier. \nID06: Registrering i ID06 kompetensdatabas ingår om du vill ha det! (värde 200 kr) \nCertifiering: Görs digitalt så ta med smartphone eller surfplatta om du har. \nBokningsregler\nKursavgiften betalas med företagsfaktura.\nAnmälan är bindande. Vid avbokning 1-5 dagar innan kursstart debiterar vi 50% av kursavgiften om inte ombokning till annan kurs kan ske. Vid uteblivet deltagande vi 100% av kursavgiften.
URL:https://nextsafetygroup.com/schemalagda-kurser/brandfarliga-arbeten-heta-arbeten-3/
LOCATION:Mönsterås\, Sweden
CATEGORIES:Brandskydd,Heta arbeten
ATTACH;FMTTYPE=image/jpeg:https://nextsafetygroup.com/wp-content/uploads/2025/06/heta-arbeten.jpg
END:VEVENT
BEGIN:VEVENT
DTSTART;TZID=Europe/Stockholm:20251028T090000
DTEND;TZID=Europe/Stockholm:20251028T160000
DTSTAMP:20260424T004149
CREATED:20250613T050100Z
LAST-MODIFIED:20251027T142631Z
UID:3942-1761642000-1761667200@nextsafetygroup.com
SUMMARY:Brandfarliga arbeten "Heta arbeten"
DESCRIPTION:Brandfarliga Arbeten är en ny och modern utbildning för alla som arbetar med moment där det finns risk för att en brand kan uppstå. Utbildningen uppfyller försäkringsbolagens krav och motsvarar Brandskyddsföreningens kurs “Heta arbeten”. \nEfter utbildningen Brandfarliga Arbeten får du ett giltigt certifikat enligt försäkringsbolagens villkor. Utbildningen är också anpassad till förhållanden i olika branscher exempelvis bygg\, tak eller industrin. Deltagaren får förståelse för risksituationer på just sin arbetsplats och kan direkt tillämpa kunskaperna i sitt arbete. \nKursens innehåll \n\nAnsvar\, lagar och regler\nOrganisation\nSäkerhetsregler & försäkringsvillkor\nRiskhantering & konsekvenser\nGrundläggande brandskydd\nBrandfarlig vara\nGrupparbeten\nPraktisk släckövning\nCertifiering\n\nNext Safety Group erbjuder utbildningen ”brandfarliga heta arbeten” på flertalet orter i Sverige\, se listan nedan. \n\nPris: 2390 kr ex. moms (inklusive certifikat och kurslitteratur). Vi erbjuder även mängdrabatt vid större gruppbokningar! \nTid: Kursen pågår mellan kl 09:00 – ca 16:00\nLunch och fika ingår\, meddela om eventuella matallergier. \nID06: Registrering i ID06 kompetensdatabas ingår om du vill ha det! (värde 200 kr) \nCertifiering: Görs digitalt så ta med smartphone eller surfplatta om du har. \nBokningsregler\nKursavgiften betalas med företagsfaktura.\nAnmälan är bindande. Vid avbokning 1-5 dagar innan kursstart debiterar vi 50% av kursavgiften om inte ombokning till annan kurs kan ske. Vid uteblivet deltagande vi 100% av kursavgiften. \nOBS. Vid mindre än 3 st kursdeltagare kan utbildningen komma att bokas om till nytt datum.
URL:https://nextsafetygroup.com/schemalagda-kurser/brandfarliga-arbeten-heta-arbeten-5/
LOCATION:Göteborg\, Importgatan 20\, Hisings Backa\, 422 46\, Sweden
CATEGORIES:Brandskydd,Heta arbeten
ATTACH;FMTTYPE=image/jpeg:https://nextsafetygroup.com/wp-content/uploads/2025/06/heta-arbeten.jpg
END:VEVENT
BEGIN:VEVENT
DTSTART;TZID=Europe/Stockholm:20251031T090000
DTEND;TZID=Europe/Stockholm:20251031T160000
DTSTAMP:20260424T004149
CREATED:20250908T104159Z
LAST-MODIFIED:20251027T142706Z
UID:4135-1761901200-1761926400@nextsafetygroup.com
SUMMARY:Brandfarliga arbeten "Heta arbeten"
DESCRIPTION:Brandfarliga Arbeten är en ny och modern utbildning för alla som arbetar med moment där det finns risk för att en brand kan uppstå. Utbildningen uppfyller försäkringsbolagens krav och motsvarar Brandskyddsföreningens kurs “Heta arbeten”. \nEfter utbildningen Brandfarliga Arbeten får du ett giltigt certifikat enligt försäkringsbolagens villkor. Utbildningen är också anpassad till förhållanden i olika branscher exempelvis bygg\, tak eller industrin. Deltagaren får förståelse för risksituationer på just sin arbetsplats och kan direkt tillämpa kunskaperna i sitt arbete. \nKursens innehåll \n\nAnsvar\, lagar och regler\nOrganisation\nSäkerhetsregler & försäkringsvillkor\nRiskhantering & konsekvenser\nGrundläggande brandskydd\nBrandfarlig vara\nGrupparbeten\nPraktisk släckövning\nCertifiering\n\nNext Safety Group erbjuder utbildningen ”brandfarliga heta arbeten” på flertalet orter i Sverige\, se listan nedan. \n\nPris: 2390 kr ex. moms (inklusive certifikat och kurslitteratur) Mängdrabatt vid större gruppbokningar! \nTid: Kursen pågår mellan kl 09:00 – ca 16:00\nLunch och fika ingår\, meddela om eventuella matallergier. \nID06: Registrering i ID06 kompetensdatabas ingår om du vill ha det! (värde 200 kr) \nCertifiering: Görs digitalt så ta med smartphone eller surfplatta om du har. \nBokningsregler\nKursavgiften betalas med företagsfaktura.\nAnmälan är bindande. Vid avbokning 1-5 dagar innan kursstart debiterar vi 50% av kursavgiften om inte ombokning till annan kurs kan ske. Vid uteblivet deltagande vi 100% av kursavgiften. \nOBS. Vid mindre än 3 st kursdeltagare kan utbildningen komma att bokas om till nytt datum.
URL:https://nextsafetygroup.com/schemalagda-kurser/brandfarliga-arbeten-heta-arbeten-9/
LOCATION:Alingsås\, Mjölnaregatan 1\, Alingsås\, 441 32\, Sweden
CATEGORIES:Brandskydd,Heta arbeten
ATTACH;FMTTYPE=image/jpeg:https://nextsafetygroup.com/wp-content/uploads/2025/06/heta-arbeten.jpg
END:VEVENT
END:VCALENDAR